BEGIN:VCALENDAR
VERSION:2.0
PRODID:-//Блог для работодателей - robota.ua - советы и статьи - ECPv4.4.3//NONSGML v1.0//EN
CALSCALE:GREGORIAN
METHOD:PUBLISH
X-WR-CALNAME:Блог для работодателей - robota.ua - советы и статьи
X-ORIGINAL-URL:https://prohr.rabota.ua
X-WR-CALDESC:Events for Блог для работодателей - robota.ua - советы и статьи
BEGIN:VEVENT
DTSTART;TZID=Europe/Kiev:20161101T183000
DTEND;TZID=Europe/Kiev:20161101T200000
DTSTAMP:20260421T120639
CREATED:20161011T071526Z
LAST-MODIFIED:20161011T071526Z
UID:4748-1478025000-1478030400@prohr.rabota.ua
SUMMARY:Створення бізнесу зі смислом: коли йдеться про ідею та "щось більше"
DESCRIPTION:"Мені цікавий момент створення смислів: вони за межами гастрономії\, цукру та солі. У мене завжди було розуміння\, що непогано б зробити щось добре надовго\, щоб це добре було поза часом. А що таке "добре"? Гроші — це класна річ. Але вони хороші зараз\, і щоразу будуть потрібні зараз. Цікаво створювати щось ще\, крім грошей\, що давало б сенс\, і цей сенс має бути більшим\, ніж гроші. Але зазвичай про це не говорять. Воно втрачає сенс\, щойно ти починаєш це озвучувати". Савелій Лібкін\n\n\n\nЩо потрібно\, аби бізнес відбувся? Звісно\, необхідні такі елементи\, як ідея\, управлінські воля та наснага\, готовність команди до маквимальної залученості та наполегливої праці. Але має бути щось ще - щось таке\, що здатне в потрібний момент вийти за межі системи\, "вдихнути" життя в проект та запустити процеси.  Про шлях від народження ідеї до її реалізації\, про те\, як працювати з викликами - конвертувати їх у можливостями\, змінюватись та змінювати - йтиметься на IDEA-події із Савелієм Лібкіним.\n\n \n\n \n\n 
URL:https://prohr.rabota.ua/event/stvorennya-biznesu-zi-smislom-koli-ydetsya-pro-ideyu-ta-shhos-bilshe/
LOCATION:ул. Большая Васильковская\, 2\, Киев\, Украина
ATTACH;FMTTYPE=image/jpeg:https://prohr.rabota.ua/wp-content/uploads/2015/10/situatsiya-v-kollektive.jpg
END:VEVENT
END:VCALENDAR