BEGIN:VCALENDAR
VERSION:2.0
PRODID:-//Блог для работодателей - robota.ua - советы и статьи - ECPv4.4.3//NONSGML v1.0//EN
CALSCALE:GREGORIAN
METHOD:PUBLISH
X-WR-CALNAME:Блог для работодателей - robota.ua - советы и статьи
X-ORIGINAL-URL:https://prohr.rabota.ua
X-WR-CALDESC:Events for Блог для работодателей - robota.ua - советы и статьи
BEGIN:VEVENT
DTSTART;TZID=Europe/Kiev:20161029T160000
DTEND;TZID=Europe/Kiev:20161029T200000
DTSTAMP:20260421T161853
CREATED:20161011T065424Z
LAST-MODIFIED:20161031T140657Z
UID:4747-1477756800-1477771200@prohr.rabota.ua
SUMMARY:Практичний воркшоп. Ділове листування англійською
DESCRIPTION:29 жовтня поговоримо про те\, як писати “живі” листи клієнтам\, яке найголовніше правило ділового листування та два основні тренди\, як працює ROR (Return On Relationship) в діловому листуванні. 70% практики та мінімум 3 написані листи на різні теми чекають на вас.\n\nВеличезна кількість месенджерів та соцмереж робить онлайн-комунікації мега доступними та дає можливість достукатись практично до кожного у будь-якому куточку світу. Та як часто ми втрачаємо можливості через неправильні теми листів\, некоректні фрази\, невміння стисло і грамотно передати суть своєї пропозиції\, чи просто байдуже та відчужене ставлення до нашого читача?\n\n29 жовтня поговоримо про:\n\n- те\, як писати “живі” листи клієнтам;\n\n- те\, як змінилися правила ділового листування\, і чому kindly be advised та please find attached уже не працють;\n\n- яке найголовніше правило ділового листування та два основні тренди;\n\n- як працює ROR (Return On Relationship) в діловому листуванні;\n\n- do’s&dont’s листів\, на які хочеться відповідати (переписка з клієнтами);\n\n- як писати просто\, але не примітивно;\n\n- як формулювати тему листа;\n\n- яких слів та фраз краще взагалі уникати;\n\n- які типові помилки роблять не носії мови при листуванні.\n\nНа виході ви отримаєте:\n- безліч лайфхаків для ефективного ведення ділової переписки;\n\n- практичний навик написання “живих” листів;\n\n- 70% практики = мінімум 3 написані листи на різні теми;\n\n- працюючі інструменти для “ПРОстих” листів англійською;\n\n- можливість в подальшому звертатись до авторів курсу за практичними порадами.\n\nДля досягнення найкращих результатів рекомендовано тим\, чия англійська – не нижче рівня Intermediate.\n\nЕксперт:\n\nІванна Табачук - вже близько 10 років викладає бізнес-англійську та проводить тренінги\, має досвід у сфері HR і\, на даний момент очолює відділ ІТ рекрутингу. Саме таке поєднання досвіду дає змогу Іванні ефективно спілкуватися з сотнями іноземних клієнтів і ділитися практичними порадами з вами.\n\nСертифікати:\n\n- 2007 TKT Module 1 (Teaching Knowledge Test) by University of Cambridge\n\n- 2009 TKT Module 2 (Teaching Knowledge Test) by University of Cambridge\n\n- 2011 BEC Higher (Business English Course) by University of Cambridge\n\nВартість: 500 грн.\n\nЧас: 16:00 - 20:00\n\nМісце: Chasopys Eduspace »\, вул. Велика Васильківська\, 30\, поверх 3\n\nПопередньо придбати квиток можна за посиланням
URL:https://prohr.rabota.ua/event/praktichniy-vorkshop-dilove-listuvannya-angliyskoyu/
ATTACH;FMTTYPE=image/jpeg:https://prohr.rabota.ua/wp-content/uploads/2016/06/razocharovanie-po-angliyski.jpg
ORGANIZER;CN="Chasopys%20EduSpace":MAILTO: 
END:VEVENT
END:VCALENDAR