BEGIN:VCALENDAR
VERSION:2.0
PRODID:-//Блог для работодателей - robota.ua - советы и статьи - ECPv4.4.3//NONSGML v1.0//EN
CALSCALE:GREGORIAN
METHOD:PUBLISH
X-WR-CALNAME:Блог для работодателей - robota.ua - советы и статьи
X-ORIGINAL-URL:https://prohr.rabota.ua
X-WR-CALDESC:Events for Блог для работодателей - robota.ua - советы и статьи
BEGIN:VEVENT
DTSTART;TZID=Europe/Kiev:20161028T100000
DTEND;TZID=Europe/Kiev:20161028T130000
DTSTAMP:20260421T174753
CREATED:20161025T083233Z
LAST-MODIFIED:20161031T140637Z
UID:4863-1477648800-1477659600@prohr.rabota.ua
SUMMARY:Індивідуальна консультація з експертом з ІТ-рекрутингу Вікторією Придатко
DESCRIPTION:28 жовтня з 10:00 до 13:00 у креативному просторі “Часопис” в рамках ініціативи 121:Швидка експертна допомога ви маєте можливість отримати індивідуальну консультацію з ІТ рекрутингу від Вікторії Придатко.\n\n\n\nЕкспертиза Вікторії:\n\n- найм в продуктові компанії і стартапи;\n\n- як зробити так\, щоб до вас хотіли потрапити і не хотіли йти;\n\n- вибір рекрутера\, чому він настільки важливий;\n\n Питання\, з якими можна звернутись до Вікторії за консультацією:\n\n- де знайти класних людей і як їх залучити;\n\n- чому ви не можете найняти людей?\n\n- HR-bullshit в IT;\n\n Про експерта:\n\nВікторія Придатко\, засновник і натхненник vpteam.com.ua: "Ми допомагаємо талановитим людям знайти компанії\, де їм буде добре\, а хорошим компаніям знайти талановитих людей. Наші клієнти - продуктові компанії і стартапи з ідеєю\, які цінують людей. Обожнюю\, коли люди щасливі і роблять те\, що люблять”. Вікторія входить до програмного комітету HRIT конференції «знайти відповідь!» в Санкт-Петербурзі\, спікер усіх (коли не подорожує) HR IT конференцій України\, творець тренінгу "Боротися і шукати" для ІТ рекрутерів.\n\nПопередня реєстрація обов’язкова. http://www.chasopys.ua/events/subscribe/1979/?t=1477383974\n\n 
URL:https://prohr.rabota.ua/event/shvidka-ekspertna-dopomoga-individualni-konsultatsiyi-z-ekspertom-z-it-rekrutingu-viktoriyeyu-pridatko/
ATTACH;FMTTYPE=image/jpeg:https://prohr.rabota.ua/wp-content/uploads/2016/10/712_analitika-1.jpg
ORGANIZER;CN="Chasopys%20EduSpace":MAILTO: 
END:VEVENT
BEGIN:VEVENT
DTSTART;TZID=Europe/Kiev:20161028T100000
DTEND;TZID=Europe/Kiev:20161028T150000
DTSTAMP:20260421T174753
CREATED:20161026T075416Z
LAST-MODIFIED:20161026T075416Z
UID:4876-1477648800-1477666800@prohr.rabota.ua
SUMMARY:Запорізький МАРАФОН «Гаряча лінія: консультації кадровиків»
DESCRIPTION:28 жовтня найкращі спікери і автори журналу «Довідник кадровика» та Єдиної електронної системи «КАДРОВИК-онлайн» вперше завітають до Запоріжжя з головною подією цієї осені - Марафон «Гаряча лінія: консультації»\n\nУ програмі:\n\nКАДРОВА ПРАКТИКА: ГАРЯЧІ ТЕМИ СЬОГОДЕННЯ\n\n \tПрийняття працівника на роботу: найпоширеніші помилки; прийняття окремих категорій працівників; останні зміни в законодавстві тощо\n \tЗвільнення працівників: проблемні ситуації; відповідальність роботодавця; останні зміни в законодавстві\n \tДискримінація чоловіків в Україні (на прикладі деяких нормативно-правових актів: Закону України «Про відпустки»)\n\n \n\n20 РОБОЧИХ СИТУАЦІЙ  І НАЙАКТУАЛЬНІШІ ПИТАННЯ З РІШЕННЯМИ ТА ЗРАЗКАМИ\n\n \tСумісництво: про що обов’язково треба знати\n \tСоціальна відпустка працівникам\, які мають дітей – надаємо правильно\n \tВажливі питання про звільнення\n \tНадання відпусток без порушення законодавства про працю\n \tПорядок та умови виконання працівником додаткових обов’язків\n\nЗАПИТАННЯ — ВІДПОВІДІ\n\n Час: 10.00 – 14.30\n\nМісце проведення: м. Запоріжжя\, Обласна рада профспілок\, майдан Профспілок\, 5\n\nРеєстраційний внесок: 300 грн.\nРеєстрація за посиланням або за тел. (044) 507-22-26
URL:https://prohr.rabota.ua/event/zaporizkiy-marafon-garyacha-liniya-konsultatsiyi/
LOCATION:майдан Профспілок\, 5\, Запоріжжя
ATTACH;FMTTYPE=image/jpeg:https://prohr.rabota.ua/wp-content/uploads/2016/10/Baner_Fb_marafon_Zaporizhzhya_1200h630.jpg
END:VEVENT
BEGIN:VEVENT
DTSTART;TZID=Europe/Kiev:20161028T190000
DTEND;TZID=Europe/Kiev:20161028T230000
DTSTAMP:20260421T174753
CREATED:20161007T101840Z
LAST-MODIFIED:20161007T101840Z
UID:4710-1477681200-1477695600@prohr.rabota.ua
SUMMARY:28 октября состоится HR Quest
DESCRIPTION:28 октября 2016\, в пятницу\, состоится HR Quest 10!\n\nЧто это? Специализированный автомобильный квест по Киеву .\nДля кого? Работники HR-сферы\, а также их друзья.\nЧто нужно для участия? Нужен автомобиль и девайс с интернетом для получения новых заданий.\n\nЧто получат участники на HR Quest 10?\nМассу эмоций\, драйв\, свободу движения. и многое другое! Также участники обязательно узнают своих коллег с новой и неожиданной стороны!\nЛучший тимбилдинг - это HR квест!\n\nРегистрация по ссылке http://archers.com.ua/game/HRQ/\n\nКак прошли предыдущие квесты можно посмотреть в фотоальбомах по ссылке https://www.facebook.com/ARCHERS.Company/photos_stream?tab=photos_albums.\nСплотите команду\, проведите необычный корпоратив для HR-отдела!
URL:https://prohr.rabota.ua/event/28-oktyabrya-sostoitsya-hr-quest/
LOCATION:ул. Большая Васильковская\, 2\, Киев\, Украина
ATTACH;FMTTYPE=image/jpeg:https://prohr.rabota.ua/wp-content/uploads/2016/10/FB_HRQuest_851x315_28oct_1.jpg
END:VEVENT
END:VCALENDAR