BEGIN:VCALENDAR
VERSION:2.0
PRODID:-//Блог для работодателей - robota.ua - советы и статьи - ECPv4.4.3//NONSGML v1.0//EN
CALSCALE:GREGORIAN
METHOD:PUBLISH
X-WR-CALNAME:Блог для работодателей - robota.ua - советы и статьи
X-ORIGINAL-URL:https://prohr.rabota.ua
X-WR-CALDESC:Events for Блог для работодателей - robota.ua - советы и статьи
BEGIN:VEVENT
DTSTART;TZID=Europe/Kiev:20161025T160000
DTEND;TZID=Europe/Kiev:20161025T200000
DTSTAMP:20260421T214221
CREATED:20161020T142256Z
LAST-MODIFIED:20161020T142257Z
UID:4809-1477411200-1477425600@prohr.rabota.ua
SUMMARY:Мастер-класс "Техники эффективного переговорного процесса"
DESCRIPTION:Приглашаем на октябрьское заседание HR-клуба НОВА ПЕРСОНА. Спикер - Валерий Глубоченко с мастер-классом: "Техники эффективного переговорного процесса"\n\nНа мастер-классе Вы получаете набор инструментов\, позволяющий выполнить план по продажам и научить продавцов продавать дорого и без скидок.\n\nВ программе:\n- Как сократить цикл сделки вдвое.\n- На что обращать внимание на переговорах\, чтобы конверсия «встречи – предложения – оплаченные счета» была максимальной.\n- Что делать\, если клиент навязывает разговор о цене\, условиях и больше не хочет ни о чем другом говорить.\n- Как ответить на вопрос «Сколько стоит» в первые минуты общения с клиентом?\n- Как с помощью вопросов вызвать интерес к сотрудничеству и к конкретному предложению.\n- Как увеличить сумму сделки/ средний чек/ расширить спектр вариантов для сотрудничества.\n- Как обосновать высокую стоимость предложения по сравнению с точно таким же предложением конкурентов?\n- Стратегия торга с клиентом.\n\n \n\nСсылка для регистрации: https://docs.google.com/forms/d/1giDS_FfHAZXdVGdp4Fuf6HZhFxGeEkyY_790a5jGHqw/edit#responses\n\n \n\nСправки по тел.: (067)643-40-40; (093)5-220-220\n\n 
URL:https://prohr.rabota.ua/event/master-klass-tehniki-effektivnogo-peregovornogo-protsessa/
LOCATION: \,  
ATTACH;FMTTYPE=image/png:https://prohr.rabota.ua/wp-content/uploads/2016/10/mkglubochenko.png
END:VEVENT
END:VCALENDAR