BEGIN:VCALENDAR
VERSION:2.0
PRODID:-//Блог для работодателей - robota.ua - советы и статьи - ECPv4.4.3//NONSGML v1.0//EN
CALSCALE:GREGORIAN
METHOD:PUBLISH
X-WR-CALNAME:Блог для работодателей - robota.ua - советы и статьи
X-ORIGINAL-URL:https://prohr.rabota.ua
X-WR-CALDESC:Events for Блог для работодателей - robota.ua - советы и статьи
BEGIN:VEVENT
DTSTART;TZID=Europe/Kiev:20161021T080000
DTEND;TZID=Europe/Kiev:20161021T170000
DTSTAMP:20260422T031034
CREATED:20161020T080551Z
LAST-MODIFIED:20161021T080735Z
UID:4825-1477036800-1477069200@prohr.rabota.ua
SUMMARY:МАРАФОН «Гаряча лінія: консультації» - в м. Полтава
DESCRIPTION:21 жовтня найкращі спікери і автори журналу «Довідник кадровика» та Єдиної електронної системи «КАДРОВИК-онлайн» вперше завітають до Полтави з головною подією цієї осені - Марафон «Гаряча лінія: консультації»\n\nУ програмі:\n\nКАДРОВА ПРАКТИКА: ГАРЯЧІ ТЕМИ СЬОГОДЕННЯ\n\n \tПрийняття працівника на роботу: найпоширеніші помилки; прийняття окремих категорій працівників; останні зміни в законодавстві тощо\n \tЗвільнення працівників: проблемні ситуації; відповідальність роботодавця; останні зміни в законодавстві\n \tДискримінація чоловіків в Україні (на прикладі деяких нормативно-правових актів: Закону України «Про відпустки»)\n\n20 РОБОЧИХ СИТУАЦІЙ  І НАЙАКТУАЛЬНІШІ ПИТАННЯ З РІШЕННЯМИ ТА ЗРАЗКАМИ\n\n \tСумісництво: про що обов’язково треба знати\n \tСоціальна відпустка працівникам\, які мають дітей – надаємо правильно\n \tВажливі питання про звільнення\n \tНадання відпусток без порушення законодавства про працю\n \tПорядок та умови виконання працівником додаткових обов’язків\n\nЗАПИТАННЯ — ВІДПОВІДІ\n\n Час: 10.00 – 14.30\n\nМісце проведення: м. Полтава\,  вул. Зіньківська\, 6/1А\, ТРЦ «Київ»\n\nРеєстраційний внесок: 300 грн.\n\nРеєстрація за посиланням або за тел. (044) 507-22-26\n\n \n\n 
URL:https://prohr.rabota.ua/event/marafon-garyacha-liniya-konsultatsiyi-2/
ATTACH;FMTTYPE=image/jpeg:https://prohr.rabota.ua/wp-content/uploads/2016/10/Baner_Fb_marafon_Poltava_1200h630.jpg
END:VEVENT
BEGIN:VEVENT
DTSTART;TZID=Europe/Kiev:20161021T160000
DTEND;TZID=Europe/Kiev:20161022T120000
DTSTAMP:20260422T031034
CREATED:20161020T072552Z
LAST-MODIFIED:20161024T114249Z
UID:4804-1477065600-1477137600@prohr.rabota.ua
SUMMARY:Безкоштовний майстер-класс «Як знайти свого кандидата: сучасні інструменти пошуку персоналу»
DESCRIPTION:Безкоштовний  майстер-клас від rabota.ua у Дніпрі 21 та 22 жовтня\n\nЧас і місце проведення:\n\nБезкоштовний  майстер-клас від rabota.ua у Дніпрі 21 та 22 жовтня\n\n«Як знайти свого кандидата: сучасні інструменти пошуку персоналу»\n\nЯкими інструментами пошуку варто скористатись у конкретній бізнес ситуації\, як кожен з них працює і які переваги та недоліки кожного? На майстер-класі Олена Гоноровська розповість про нюанси більш ніж 10 каналів пошуку персоналу. Кожен з них вона активно використовувала в своїй практиці HRM і рекрутера\, тому вся інформація буде максимально корисною не лише в теоретичному\, а й в практичному плані.\n\nСпікер майстер-класу:\n\nОлена Гоноровська – консультант та експерт напрямку пошуку та підбору персоналу\, кар’єрний консультант.\n\n9 років  досвіду роботи в мультинаціональних компаніях Samsung Electronics (HRM) та Kraft Foods\, зараз Mondelez (супервізор центру експертизи розвитку бренду роботодавця і підбору персоналу).\n\nМає досвід розвитку власної рекрутингової агенції HUNTBERRY\, тисячі проведених співбесід та декілька сотень фіналістів\, які успішно вийшли на нову роботу.\n\nЧас і місце проведення:\n\nм. Дніпро\n\n\n\n21 жовтня\n\nГотель «Reikartz Дніпро»\, вул. Троїцька\, 12А\n\nпочаток о 16.00\, завершення о 20:00.\n\n\n\n22 жовтня\n\nГотель Abri\, конференц-зал «Дніпровський»\, Ярмарковий узвіз 1\n\nпочаток о 09.30\, завершення о 13:30.\n\n \n\nДізнайтеся більше у вашого менеджера або зателефонуйте нам прямо зараз! \n\n(044) 379 – 18 – 38\, (067) 691 – 93 – 23   \n\n3  
URL:https://prohr.rabota.ua/event/4804/
LOCATION: \,  
ATTACH;FMTTYPE=image/jpeg:https://prohr.rabota.ua/wp-content/uploads/2016/10/Dnipro_mayster-klas.jpg
END:VEVENT
END:VCALENDAR