BEGIN:VCALENDAR
VERSION:2.0
PRODID:-//Блог для работодателей - robota.ua - советы и статьи - ECPv4.4.3//NONSGML v1.0//EN
CALSCALE:GREGORIAN
METHOD:PUBLISH
X-WR-CALNAME:Блог для работодателей - robota.ua - советы и статьи
X-ORIGINAL-URL:https://prohr.rabota.ua
X-WR-CALDESC:Events for Блог для работодателей - robota.ua - советы и статьи
BEGIN:VEVENT
DTSTART;VALUE=DATE:20161015
DTEND;VALUE=DATE:20161015
DTSTAMP:20260422T123338
CREATED:20161004T075136Z
LAST-MODIFIED:20161018T134413Z
UID:4678-1476489600-1476575999@prohr.rabota.ua
SUMMARY:Бизнес-форум с Робертом Кийосаки и Бодо Шефером
DESCRIPTION:FORUM ONE UKRAINE - Бизнес-форум с Робертом Кийосаки и Бодо Шефером!\n\n15 октября компания Olerom проведет крупнейший бизнес-форум Forum One Ukraine при участии гениев современности Роберта Кийосаки\, Бодо Шефера и Тома Уилрайта.\n\nФорум соберет  более 3 500 владельцев крупных компаний\, топ-менеджеров\, предпринимателей и инвесторов. Спикеры Forum One Ukraine 2016 – эксперты\, которые вдохновили и продолжают вдохновлять многих успешных сегодня предпринимателей.         Еще один спикер форума Том Уилрайт  не так хорошо известен широкой публике\, но является незаменимым профессионалом из команд Роберта Кийосаки и Дональда Трампа. Том – настоящий гуру в вопросах налогов и их оптимизации.\n\nВо время Forum One Ukraine 2016 все спикеры поделятся финансовыми кейсами из личной практики\, и расскажут о мировых тенденциях и перспективах развития финансового рынка.\n\nКомпания Olerom\, во главе с Ольгой Редзюк\, известна тем\, что за последние 2 года привезла в Украину многих известных во всем мире спикеров. У компании богатый опыт проведения глобальных и значимых событий для бизнес-пространства Украины.\n\nТрудно переоценить важность проведения первого Forum One Ukraine в апреле прошлого года – ведь это была революция для рынка бизнес-ивентов Украины. В прошлогоднем форуме приняли участие ведущие мировые финансовые лидеры и стратеги\, такие как Ричард Брэнсон\, Габор Джордж Берт\, Фредрик Харен\, Джон Вон Эйкен\, Евгений Чичваркин\, Бен Сандерс.\nForum One Ukraine-2016 организован с целю дать ответы бизнес-сегменту на вопросы о том как справляться с новыми вызовами нашего турбулентного времени. Этой осенью\, в Украине впервые выступит Роберт Койосаки\, сцену с ним разделят Бодо Шефер и Том Уилрайт. Спикеры поделятся с украинцами своими секретами и работающими стратегиями\, которые уже помогли достичь успеха и финансовой свободы миллионам людей.\nОни расскажут о том:\n\n-        как грамотно и максимально эффективно использовать свои ресурсы в нестабильной бизнес среде;\n\n-        как быстро и грамотно проводить анализ внешних факторов\, которые ведут Вас к процветанию;\n\n-        как сохранить внутренний стрежень и мотивацию в самых сложных ситуациях;\n\n-        как изменить и адаптировать мышление так\, чтобы видеть новые возможности и перспективы.\n\nБолее подробная информация о Форуме\, его программе и спикерах по ссылке: http://forumone.olerom.com/\n\nПриглашаем Вас посетить FORUM ONE UKRAINE и стать частью бизнес-события №1 этого года!\n\n 
URL:https://prohr.rabota.ua/event/biznes-forum-s-robertom-kiyosaki-i-bodo-sheferom/
LOCATION:ул. Большая Васильковская\, 2\, Киев\, Украина
ATTACH;FMTTYPE=image/jpeg:https://prohr.rabota.ua/wp-content/uploads/2016/10/1200x800.jpg
END:VEVENT
END:VCALENDAR