BEGIN:VCALENDAR
VERSION:2.0
PRODID:-//Блог для работодателей - robota.ua - советы и статьи - ECPv4.4.3//NONSGML v1.0//EN
CALSCALE:GREGORIAN
METHOD:PUBLISH
X-WR-CALNAME:Блог для работодателей - robota.ua - советы и статьи
X-ORIGINAL-URL:https://prohr.rabota.ua
X-WR-CALDESC:Events for Блог для работодателей - robota.ua - советы и статьи
BEGIN:VEVENT
DTSTART;TZID=Europe/Kiev:20161010T090000
DTEND;TZID=Europe/Kiev:20161010T210000
DTSTAMP:20260422T200409
CREATED:20160829T092846Z
LAST-MODIFIED:20161010T164133Z
UID:4437-1476090000-1476133200@prohr.rabota.ua
SUMMARY:Авторский семинар Нассима Талеба -  автора нашумевшей теории «Черный лебедь»
DESCRIPTION:10 октября по инициативе HUB 4.0 в Киеве пройдет первый авторский семинар Нассима Талеба\, легендарного мыслителя\, финансового гуру\, автора нашумевшей теории «Черный лебедь».\n\nОн построил успешную карьеру на Уолл-стрит и предсказал мировой экономический кризис\n\n2008 года. На фоне глобального краха его компания принесла инвесторам полмиллиарда долларов прибыли.\n\n \n\nНе пропустите! До 31 августа доступны цены early birds!\n\nДетали на http://taleb.com.ua/\n\nДля клиентов и партнеров rabota.ua – стоимость билета типа Business – 9 200 грн. (вместо 9 700 грн) до 31.08.2016 \n\nпо специальному промокоду rabota-partners\n\nПосле 1.09.2016 – 10 500 грн (вместо 11 500 грн).\n\nДля клиентов и партнеров rabota.ua – стоимость билета типа Premium  – 60 000 грн. (вместо 63 000  грн) до 31.08.2016. \n\nПосле 1.09.2016 – 70 000 грн (вместо 75 000 грн).\n\nПодробнее\n\nНассим Талеб подвергнет сомнению все известные вам теории управления рисками\, навсегда изменит взгляд на экономику\, финансовые рынки и понимание структуры мира. Вас ждут мощные и смелые идеи о том\, как побеждать в мире хаоса и достигать успеха в бизнесе с критичным уровнем неопределенности.\n\n\n\nЕго бестселлеры «Черный лебедь»\, «Антихрупкость»\, «Одураченные случайностью» переведены более чем на 30 языков и разошлись миллионными тиражами. После прочтения лауреат Нобелевской премии по экономике Даниэль Канеман предложил включить имя Талеба в список лучших представителей интеллигенции\, уточнив: "Талеб изменил способ многих людей думать о неопределенности\, особенно на финансовых рынках".
URL:https://prohr.rabota.ua/event/10-oktyabrya-kiev-avtorskiy-seminar-nassima-taleba/
LOCATION:ул. Большая Васильковская\, 2\, Киев\, Украина
ATTACH;FMTTYPE=image/png:https://prohr.rabota.ua/wp-content/uploads/2016/08/shapka-Taleb.png
END:VEVENT
END:VCALENDAR