BEGIN:VCALENDAR
VERSION:2.0
PRODID:-//Блог для работодателей - robota.ua - советы и статьи - ECPv4.4.3//NONSGML v1.0//EN
CALSCALE:GREGORIAN
METHOD:PUBLISH
X-WR-CALNAME:Блог для работодателей - robota.ua - советы и статьи
X-ORIGINAL-URL:https://prohr.rabota.ua
X-WR-CALDESC:Events for Блог для работодателей - robota.ua - советы и статьи
BEGIN:VEVENT
DTSTART;TZID=Europe/Kiev:20161006T080000
DTEND;TZID=Europe/Kiev:20161008T170000
DTSTAMP:20260423T000522
CREATED:20160927T113731Z
LAST-MODIFIED:20161007T140023Z
UID:4632-1475740800-1475946000@prohr.rabota.ua
SUMMARY:Старт піврічної програми «HRM у бізнесі»
DESCRIPTION:Старт практичної програми «HRM у бізнесі»\, що створена для тих\, хто хоче сформувати високопродуктивну команду\, розуміти головні аспекти управління персоналом у своїй компанії чи розпочати успішну кар’єру в HR. Вона спрямована на розвиток тих компетенцій\, які необхідні сучасним менеджерам для ефективного управління персоналом.\nЗнання та навички\, отримані на цій програмі Львівської бізнес-школи УКУ\, дають можливість успішно працювати менеджером з персоналу (hr-generalist) в невеликій компанії або виконувати спеціалізовану функцію (рекрутинг\, компенсація тощо) у департаменті управління персоналом середньої та великої компанії.\n\nПрограма складається з таких основних тематичних блоків:\n1. HR та організація (Місце HR-функції в організації; Поняття організації та її стратегії; Організаційна структура та аналіз робіт).\n2. Забезпечення організації персоналом (Пошук та відбір персоналу; Адаптація працівників; Кадрове діловодство).\n3. Утримання персоналу (Організаційна культура та лідерство; Основи внутрішніх комунікацій; Мотивація персоналу).\n4. Оцінка персоналу (Процес оцінки; Методи та інструменти; Зв’язок оцінки з іншими системами).\n5. Навчання та розвиток персоналу (Система навчання і розвитку; Кадровий резерв; Робота з постачальниками).\n6. Фінанси та компенсація (Основи фінансів; Складові компенсації).\n\nПо завершенню програми\, учасники отримають сертифікат Львівської бізнес-школи УКУ (LvBS). Успішні випускники програми зможуть продовжити навчання на програмі магістерського рівня MA in Human Resources and Organization Development та перейти на новий рівень професійного і особистісного розвитку.\nСтарт – жовтень 2016\nФормат – 6 навчальних модулів; 2\,5 дні на місяць (з четверга по суботу)\nВартість – за умови ранньої реєстрації – 22 000 грн\, звичайна вартість – 27 000 грн.\n\nЗАРЕЄСТРУВАТИСЯ\nПо детальнішу інформацію\, будь ласка\, звертайтесь:\nЛідія Маковська\, lmakowska@lvbs.com.ua\, +38 067 67 25 800\nІра Лепська\, ilepska@lvbs.com.ua\, +38 097 23 93 876
URL:https://prohr.rabota.ua/event/start-pivrichnoyi-programi-hrm-u-biznesi/
LOCATION:Козельницкая\, 2а\, Львов
ATTACH;FMTTYPE=image/jpeg:https://prohr.rabota.ua/wp-content/uploads/2016/09/UKU-LBS.jpg
END:VEVENT
BEGIN:VEVENT
DTSTART;VALUE=DATE:20161007
DTEND;VALUE=DATE:20161007
DTSTAMP:20260423T000522
CREATED:20160915T154021Z
LAST-MODIFIED:20161011T081250Z
UID:4555-1475798400-1475884799@prohr.rabota.ua
SUMMARY:Мероприятие для кадровиков «Гаряча лінія: консультації»
DESCRIPTION:7 жовтня найкращі спікери і автори журналу «Довідник кадровика» та Єдиної електронної системи «КАДРОВИК-онлайн» вперше завітають до Черкас з головною подією цієї осені - Марафон «Гаряча лінія: консультації»\n\nУ програмі:\n\nКАДРОВА ПРАКТИКА: ГАРЯЧІ ТЕМИ СЬОГОДЕННЯ\n\n \tПрийняття працівника на роботу: найпоширеніші помилки; прийняття окремих категорій працівників; останні зміни в законодавстві тощо\n \tЗвільнення працівників: проблемні ситуації; відповідальність роботодавця; останні зміни в законодавстві\n \tДискримінація чоловіків в Україні (на прикладі деяких нормативно-правових актів: Закону України «Про відпустки»)\n\n20 РОБОЧИХ СИТУАЦІЙ  І НАЙАКТУАЛЬНІШІ ПИТАННЯ З РІШЕННЯМИ ТА ЗРАЗКАМИ\n\n \tСумісництво: про що обов’язково треба знати\n \tСоціальна відпустка працівникам\, які мають дітей – надаємо правильно\n \tВажливі питання про звільнення\n \tНадання відпусток без порушення законодавства про працю\n \tПорядок та умови виконання працівником додаткових обов’язків\n\nВСТУПНИЙ ТА ПЕРВИННИЙ ІНСТРУКТАЖ ПРИ ПРИЙОМІ НА РОБОТУ \n\n \tу якому порядку проводити вступний та первинний інструктажі\n \tяк правильно провести інструктаж на робочому місці на виробництві\n \tяк уникнути помилок при проведенні інструктажів\n\nЗАПИТАННЯ — ВІДПОВІДІ\n\n Час: 10.00 – 14.30\n\nМісце проведення: м. Черкаси\, Федерація профспілок Черкаської області\, вул. Б. Вишневецького\, 18\, 4 поверх (зал засідань).\n\nРеєстраційний внесок: 300 грн.\nРеєстрація за посиланням або за тел. (044) 507-22-26\n
URL:https://prohr.rabota.ua/event/marafon-garyacha-liniya-konsultatsiyi-v-cherkasah/
LOCATION:вул. Б. Вишневецького\, 18\,\, Черкаси
ATTACH;FMTTYPE=image/jpeg:https://prohr.rabota.ua/wp-content/uploads/2016/09/Baner_Fb_marafon_CHerkassyi_1200h630.jpg
END:VEVENT
END:VCALENDAR