BEGIN:VCALENDAR
VERSION:2.0
PRODID:-//Блог для работодателей - robota.ua - советы и статьи - ECPv4.4.3//NONSGML v1.0//EN
CALSCALE:GREGORIAN
METHOD:PUBLISH
X-WR-CALNAME:Блог для работодателей - robota.ua - советы и статьи
X-ORIGINAL-URL:https://prohr.rabota.ua
X-WR-CALDESC:Events for Блог для работодателей - robota.ua - советы и статьи
BEGIN:VEVENT
DTSTART;TZID=Europe/Kiev:20160930T100000
DTEND;TZID=Europe/Kiev:20160930T150000
DTSTAMP:20260423T110130
CREATED:20160916T151501Z
LAST-MODIFIED:20161003T095344Z
UID:4570-1475229600-1475247600@prohr.rabota.ua
SUMMARY:Львівський марафон «Гаряча лінія: консультації»
DESCRIPTION:30 вересня найкращі спікери і автори журналу «Довідник кадровика» та Єдиної електронної системи «КАДРОВИК-онлайн» вперше завітають до Львова з головною подією цієї осені - Марафон «Гаряча лінія: консультації»\n\nУ програмі:\n\nКАДРОВА ПРАКТИКА: ГАРЯЧІ ТЕМИ СЬОГОДЕННЯ\n\n \tПрийняття працівника на роботу: найпоширеніші помилки; прийняття окремих категорій працівників; останні зміни в законодавстві тощо\n \tЗвільнення працівників: проблемні ситуації; відповідальність роботодавця; останні зміни в законодавстві\n \tДискримінація чоловіків в Україні (на прикладі деяких нормативно-правових актів: Закону України «Про відпустки»)\n\n20 РОБОЧИХ СИТУАЦІЙ  І НАЙАКТУАЛЬНІШІ ПИТАННЯ З РІШЕННЯМИ ТА ЗРАЗКАМИ\n\n \tСумісництво: про що обов’язково треба знати\n \tСоціальна відпустка працівникам\, які мають дітей – надаємо правильно\n \tВажливі питання про звільнення\n \tНадання відпусток без порушення законодавства про працю\n \tПорядок та умови виконання працівником додаткових обов’язків\n\nЗАПИТАННЯ — ВІДПОВІДІ\n\n Час: 10.00 – 14.30\n\nМісце проведення: м. Львів\, вул. В. Великого\, 50\, готельно-начальний комплекс «Гетьман»\, (конференц-зал).\n\nРеєстраційний внесок: 300 грн.\n\nРеєстрація за посиланням або за тел. (044) 507-22-26\n\n \n\n \n\n 
URL:https://prohr.rabota.ua/event/lvivskiy-marafon-garyacha-liniya-konsultatsiyi/
LOCATION:ул. В.Великого\, 50\, Львов\, Украина
ATTACH;FMTTYPE=image/jpeg:https://prohr.rabota.ua/wp-content/uploads/2016/09/Baner_Fb_marafon_Lvov_1200h630.jpg
END:VEVENT
END:VCALENDAR