BEGIN:VCALENDAR
VERSION:2.0
PRODID:-//Блог для работодателей - robota.ua - советы и статьи - ECPv4.4.3//NONSGML v1.0//EN
CALSCALE:GREGORIAN
METHOD:PUBLISH
X-WR-CALNAME:Блог для работодателей - robota.ua - советы и статьи
X-ORIGINAL-URL:https://prohr.rabota.ua
X-WR-CALDESC:Events for Блог для работодателей - robota.ua - советы и статьи
BEGIN:VEVENT
DTSTART;VALUE=DATE:20160927
DTEND;VALUE=DATE:20160927
DTSTAMP:20260423T151706
CREATED:20160915T083804Z
LAST-MODIFIED:20160915T083804Z
UID:4532-1474934400-1475020799@prohr.rabota.ua
SUMMARY:Сентябрьское заседание клуба "Нова персона"
DESCRIPTION:Дорогие друзья!\n\nДнепровский HR-клуб "НОВА ПЕРСОНА" вновь возобновляет свою деятельность после летних каникул. Приглашаем всех на сентябрьское заседание!\n\nНачнем сразу с сюрпризов!\n\nНаш спикер - АЛЕКСЕЙ КАПУСТА !!!\n\nРуководитель офиса Института Адизеса в Украине и Испании!\n\n27 сентября порадует нас мастер-классом: «HR\, корпоративная культура и успех предприятия»!\n\nВ программе:\n\n- Корпоративная культура — основной фактор долгосрочного успеха компании;\n\n- Мифы о корпоративной культуре и подход Адизеса;\n\n- HR+CEO — мама и папа корпоративной культуры в организации;\n\n- Топ-5 “убойных” инструментов Методологии Адизеса для построения культуры победителей.\n\nРегистрация по ссылке: https://docs.google.com/forms/d/1U1tUNaVqCAl5AKDi_WmR4S458e65013fgj3nGgbhlEI/edit\n\nСправки по тел: (067)643-40-40; (093)5-220-220
URL:https://prohr.rabota.ua/event/sentyabrskoe-zasedanie-kluba-nova-persona/
ATTACH;FMTTYPE=image/jpeg:https://prohr.rabota.ua/wp-content/uploads/2016/09/NovaPersonaDnepr.jpg
END:VEVENT
END:VCALENDAR