BEGIN:VCALENDAR
VERSION:2.0
PRODID:-//Блог для работодателей - robota.ua - советы и статьи - ECPv4.4.3//NONSGML v1.0//EN
CALSCALE:GREGORIAN
METHOD:PUBLISH
X-WR-CALNAME:Блог для работодателей - robota.ua - советы и статьи
X-ORIGINAL-URL:https://prohr.rabota.ua
X-WR-CALDESC:Events for Блог для работодателей - robota.ua - советы и статьи
BEGIN:VEVENT
DTSTART;TZID=Europe/Kiev:20160921T090000
DTEND;TZID=Europe/Kiev:20160923T180000
DTSTAMP:20260423T205213
CREATED:20160811T135229Z
LAST-MODIFIED:20160927T101008Z
UID:4378-1474448400-1474653600@prohr.rabota.ua
SUMMARY:Начало осеннего курса HR – бизнес-партнер
DESCRIPTION:ДЛЯ КОГО?\nДля HR – директора\, HR – generalist'а и HR-партнера\, который хочет со-настроить HR-систему с новым уровнем развития своей компании\, управлять изменениями и влиять на бизнес-показатели как партнер.\n\n8 модулей | 12 дней интенсива | 4 месяца обучения и практики при экспертной поддержке\nв результате которых вы сможете:\n\n \t Разработать успешную HR- стратегию и ее системную реализацию\, через понимание бизнеса и этапов его развития\, со-настройку с необходимым вектором изменений своей компании.\n \t Обеспечивать бизнесу успешность за счет построения эффективной системы управления ее самым главным активом - персоналом компании.\n \tСоздать ценность в HR – оптимизировать работу HR-службы\, повысив ее эффективность\, трансформировать предоставление бизнесу HR-услуг через грамотный дизайн лучших практик и инструментов\, а также реализацию своего проекта\, направленного на решение актуальных бизнес-задач.\n \tУметь обосновывать СЕО и топ-менеджменту эффективность своих проектов через расчет возврата инвестиций и показателей эффективности проектов\, оперирование бизнес-показателями.\n \tСтать бизнес-партнером - развить компетенции\, направленные на формирование навыков управления отношениями и изменениями\, стратегическое и бизнес-мышление\, эмоциональное лидерство\, влияние и вовлечение\, формирование внутренней позиции "ПАРТНЕР"\n\n_________________________________________\nНа старте программы:\n1. Диагностика состояний HR-процессов для более точного формирования темы проекта для вашего бизнеса\n2. Входное индивидуальное интервью.\n3. Анализ вашего лидерского стиля в подарок!\nИтог программы: \nАктуальный HR -проект – ваш персональный результат!\n_________________________________________\n\nВедущие программы:\nАлександра Колесник\n\nконсультант по управлению (СМС)\, коуч\, бизнес-тренер\, эксперт-практик в области управления персоналом\n\nОльга Дудник\n\nконсультант по управлению (СМС)\, эксперт – практик в области инновационных методик управления персоналом\n\n Юрий Кравченко\n\nкоуч\, бизнес-тренер\, эксперт по эмоциональному интеллекту\n1 Модуль: "HR бизнес-партнер. Стратегия и бизнес-моделирование"\n\n2 Модуль: "Управление проектами и изменениями"\n\n3 Модуль: "Управление эффективностью и оценка персонала. Инструменты коучинга"\n\n4 Модуль: "Организационное развитие и процессное управление".\n\n5 Модуль: "Мотивация и стимулирование персонала. Грейдинг. Управление компенсационным пакетом"\n\n6 Модуль: «Корпоративная культура. Управление талантами. Геймификация»\n\n7 Модуль: «Управление эмоциональным интеллектом. Эмоциональный капитал»\n\n8 Модуль: "Презентация и защита проектов"\n\nЗащита проектов - декабрь 2016г.\n-----------------------------------------------------------------------------------\n\nСамый практичный курс по отзывам выпускников\nhttps://youtu.be/wcaiq6TzDz\nПрисоединяйтесь в программу\, работайте над проектом и получайте бонусы.\n\nhttp://hrpartner.com.ua/?utm_source= rabota&utm_medium=direct&utm_campaign=hrbptraining\n\nАдрес: г. Киев. Эспланадная 20\,\n\nСтоимость первого модуля: -  6 625 грн.
URL:https://prohr.rabota.ua/event/21-23-sentyabrya-1-modul-g-kiev/
LOCATION:ул. Большая Васильковская\, 2\, Киев\, Украина
ATTACH;FMTTYPE=image/jpeg:https://prohr.rabota.ua/wp-content/uploads/2016/08/HRBP_cover_Room10533_29_07.jpg
END:VEVENT
BEGIN:VEVENT
DTSTART;VALUE=DATE:20160923
DTEND;VALUE=DATE:20160923
DTSTAMP:20260423T205213
CREATED:20160915T154437Z
LAST-MODIFIED:20160916T151842Z
UID:4559-1474588800-1474675199@prohr.rabota.ua
SUMMARY:Одеський марафон «Гаряча лінія: консультації»
DESCRIPTION:23 вересня найкращі спікери і автори журналу «Довідник кадровика» та Єдиної електронної системи «КАДРОВИК-онлайн» вперше завітають до Одеси з головною подією цієї осені - Марафон «Гаряча лінія: консультації»\n\nУ програмі:\n\nКАДРОВА ПРАКТИКА: ГАРЯЧІ ТЕМИ СЬОГОДЕННЯ\n\n \tПрийняття працівника на роботу: найпоширеніші помилки; прийняття окремих категорій працівників; останні зміни в законодавстві тощо\n \tЗвільнення працівників: проблемні ситуації; відповідальність роботодавця; останні зміни в законодавстві\n \tДискримінація чоловіків в Україні (на прикладі деяких нормативно-правових актів: Закону України «Про відпустки»)\n\n20 РОБОЧИХ СИТУАЦІЙ  І НАЙАКТУАЛЬНІШІ ПИТАННЯ З РІШЕННЯМИ ТА ЗРАЗКАМИ\n\n \tСумісництво: про що обов’язково треба знати\n \tСоціальна відпустка працівникам\, які мають дітей – надаємо правильно\n \tВажливі питання про звільнення\n \tНадання відпусток без порушення законодавства про працю\n \tПорядок та умови виконання працівником додаткових обов’язків\n\nПОРЯДОК ПРОВЕДЕННЯ КОНКУРСНОГО ВІДБОРУ НА ЗАЙНЯТТЯ ВАКАНТНИХ ПОСАД ДЕРЖАВНИХ СЛУЖБОВЦІВ \n\n \tвимоги щодо оприлюднення інформації про вакантну посаду державної служби та розміщення оголошення про проведення конкурсу на сайті Національного агентства України з питань державної служби\, оприлюднення інформації про результати конкурсу\n \tприйняття та розгляд документів для участі в конкурсі\, вимоги до претендентів\n \tпроведення оцінювання кандидатів на зайняття вакантних посад державної служби (тестування\, розв’язання ситуаційних завдань\, співбесіда)\n\nЗАПИТАННЯ — ВІДПОВІДІ\n\n Час: 10.00 – 14.30\n\nМісце проведення: м. Одеса\, готель Vele Rosse\, вул. Гаршина\, 3\, конференц-зал\n\nРеєстраційний внесок: 300 грн.\n\nРеєстрація за посиланням або за тел. (044) 507-22-26\n\n 
URL:https://prohr.rabota.ua/event/odeskiy-marafon-garyacha-liniya-konsultatsiyi/
LOCATION:ул. Еврейская\, 32\, Одесса\, Украина
ATTACH;FMTTYPE=image/jpeg:https://prohr.rabota.ua/wp-content/uploads/2016/09/Baner_Fb_marafon_Odessa_1200h630.jpg
END:VEVENT
END:VCALENDAR