BEGIN:VCALENDAR
VERSION:2.0
PRODID:-//Блог для работодателей - robota.ua - советы и статьи - ECPv4.4.3//NONSGML v1.0//EN
CALSCALE:GREGORIAN
METHOD:PUBLISH
X-WR-CALNAME:Блог для работодателей - robota.ua - советы и статьи
X-ORIGINAL-URL:https://prohr.rabota.ua
X-WR-CALDESC:Events for Блог для работодателей - robota.ua - советы и статьи
BEGIN:VEVENT
DTSTART;VALUE=DATE:20160909
DTEND;VALUE=DATE:20160909
DTSTAMP:20260424T165833
CREATED:20160811T134844Z
LAST-MODIFIED:20160912T144130Z
UID:4380-1473379200-1473465599@prohr.rabota.ua
SUMMARY:конференція HR lab у Львові
DESCRIPTION:9 вересня 2016 року ми чекаємо на вас у затишному та атмосферному Львові на наступній конференції від rabota.ua. Цього разу поговоримо на приємну та\, безумовно\, важливу тему «Чи існує щастя на роботі? Успішні HR-рішення від українських компаній».\nПровідні українські HR-експерти розкажуть про успішний досвід «щастябудування» у власних компаніях:\n\nСертифіковані тренери на авторських майстер-класах поділяться актуальними на сьогодні інструментами та практиками:\n\nА колеги з інших компаній за філіжанкою кави обміняються з вами останніми новинами та особливостям роботи HRа в різних бізнес-галузях.\n\nКонференція буде цікавою:\n- HR-директорам\, керівникам з підбору\, HR-фахівцям великих компаній України.\n\n- Керівникам та власникам компаній\, які цікавляться питаннями управління персоналом для покращення ефективності бізнесу.\n\nРеєструйтеся вже зараз – кількість місць обмежена!\n\nДетальнішу інформацію про програму конференції читайте на сайті\n\nА також слідкуйте за оновленнями на офіційній сторінці івенту в Facebook .\n\n \n\nБільше про освітню платформу HR lab:\n\nHR lab - це платформа для обміну досвідом в HR-сфері від rabota.ua\, яка включає цикл різних за форматом заходів за участю провідних експертів-практиків в області управління людськими ресурсами.\nВ цьому році вже успішно пройшли майстер-класи в Дніпропетровську\, Вінниці\, Києві та Харкові\, а також відбулися масштабні конференції у Дніпропетровську та Одесі. За цей час події HR lab зібрали в цілому більше 700 HR-професіоналів зі всієї України.\n\n 
URL:https://prohr.rabota.ua/event/9-veresnya-rabota-ua-zaproshuye-hr-profesionaliv-u-lviv-na-konferentsiyu-hr-lab/
LOCATION:ул. В.Великого\, 50\, Львов\, Украина
ATTACH;FMTTYPE=image/jpeg:https://prohr.rabota.ua/wp-content/uploads/2016/08/kaver-dlya-sati.jpg
END:VEVENT
END:VCALENDAR