BEGIN:VCALENDAR
VERSION:2.0
PRODID:-//Блог для работодателей - robota.ua - советы и статьи - ECPv4.4.3//NONSGML v1.0//EN
CALSCALE:GREGORIAN
METHOD:PUBLISH
X-WR-CALNAME:Блог для работодателей - robota.ua - советы и статьи
X-ORIGINAL-URL:https://prohr.rabota.ua
X-WR-CALDESC:Events for Блог для работодателей - robota.ua - советы и статьи
BEGIN:VEVENT
DTSTART;TZID=Europe/Kiev:20160818T190000
DTEND;TZID=Europe/Kiev:20160818T220000
DTSTAMP:20260425T220455
CREATED:20160817T142101Z
LAST-MODIFIED:20160826T131559Z
UID:4426-1471546800-1471557600@prohr.rabota.ua
SUMMARY:IT-HR Лето. Work-Life Balance
DESCRIPTION:На этой встрече мы поговорим о лете - прекрасной поре отпусков\, ярких впечатлениях\, море возможностей получения нового опыта\, а также затронем тему баланса «работа-личная жизнь». Само название «баланс» говорит о том\, что что-то одно уступает другому\, и мы должны как-то выравнивать обе части\, а ведь каждый человек может делать то\, что он любит\, и за счет этого прокормить себя. Работа - это хобби или возможность заниматься хобби? На эти и другие вопросы помогут найти ответы наши спикеры\, многие из которых активные участники IT-HR Club\, а также гости встречи.\n\nнаши спикеры:\n\nОльга Чихиро - компания CourseYard\, Project Manager + COO.\nБольше 6-ти лет в IT сфере\, 4 из них –опыт PMa.\nО себе: Работа в любимой компании CourseYard - и есть основное хобби\, но помимо неё уже 11 лет как не могу жить без фотографии\, чуть больше - без собирания и составления домашних чаёв из трав-ягод-фруктов и с начала этого года с головой окунулась в тему эмоционального интеллекта и психофизиологических аспектов возникновения эмоций.\nТема выступления: "Любить то\, что делаешь или делать то\, что любишь?"\n\nНастя Ленда. - 5 лет в IT HR.\nО себе: Умею построить роботу HR Recruting с нуля\, увлекать\, завлекать\,развлекать и любить абсолютно разных людей\, чем и занимаюсь на данный момент в небольшой аутсорс компании Dynamo Development.\nТема доклада: “Хочу все успеть!” Или “Чем еще я не занималась этим летом!\n\nЮлия Бондарь\, HR/Recruitment Lead\, и Анастасия Коваленко\, HR/Senior Recruiter\, компания Levi9.\nО себе: получаем от работы фан и интегрируем наши хобби в ежедневную рутину. Балансируем\, в общем:)\nТема доклада: Life and work balance\, как одна из главных ценностей в компании\, и как ее развивать.\n\nПостоянным участникам Клуба (участие в 2х и более встреч) скидка по промокоду - 15%.\n\nОнлайн регистрация будет закрыта в 10-00 18 августа 2016г.\n\nОплата на месте в день мероприятия - 300 грн.\n\n18 августа\, \nHUB 4.0 \, зал «Education»\, Ярославский пер\, 1/3 Киев\, Украина\nhttps://2event.com/ru/events/714420
URL:https://prohr.rabota.ua/event/it-hr-leto-work-life-balance/
LOCATION:ул. Большая Васильковская\, 2\, Киев\, Украина
ATTACH;FMTTYPE=image/png:https://prohr.rabota.ua/wp-content/uploads/2016/08/image001.png
END:VEVENT
END:VCALENDAR