BEGIN:VCALENDAR
VERSION:2.0
PRODID:-//Блог для работодателей - robota.ua - советы и статьи - ECPv4.4.3//NONSGML v1.0//EN
CALSCALE:GREGORIAN
METHOD:PUBLISH
X-WR-CALNAME:Блог для работодателей - robota.ua - советы и статьи
X-ORIGINAL-URL:https://prohr.rabota.ua
X-WR-CALDESC:Events for Блог для работодателей - robota.ua - советы и статьи
BEGIN:VEVENT
DTSTART;TZID=Europe/Kiev:20160813T170000
DTEND;TZID=Europe/Kiev:20160813T210000
DTSTAMP:20260426T032749
CREATED:20160810T101640Z
LAST-MODIFIED:20160810T101640Z
UID:4369-1471107600-1471122000@prohr.rabota.ua
SUMMARY:Дискуссия по "черным спискам" в IT-сфере
DESCRIPTION:Бурлит блогосфера\, срываются покровы\, пилятся креативы и все на вечную тему "Программеры-рекрутеры"\, которая ВНЕЗАПНО обострилась после всплытия секрета Полишинеля - черных списков кандидатов (http://dou.ua/forums/topic/18028/\, и еще 10+ спин-оффов\, свято продовжується :) )\n\nДля Go Offline данные события - просто повод\, для того чтобы взять и замутить встречу оффлайн интересующихся вопросами рекрутинга\, психологии кандидатов\, культуры сетевого общения\, деловой и личной этики\, юриспруденции\, Public relations...\nВ первую очередь - для того чтобы поделиться РЕАЛЬНЫМИ ЗНАНИЯМИ\, которые крайне необходимы современному IT - специалисту как soft skills для успешной жизни и карьеры.\n\n"Кто виноват?" - да в топку\, да здравствует "Как это работает?" - этот вопрос больше интересует человека\, хоть раз в жизни разбиравшего будильник :). И все это в атмосфере сетевого юмора\, в формате ток-шоу "Большая стирка с Андреем Малаховым" и с традиционной мегафтепати.\nВ качестве экспертов мы пригласили специалистов\, имеющих реальный опыт и успехи\, стремление постоянно развиваться и незашоренный взгляд на мир.\n\nСпикеры:\n\n"Рекрутер моей мечты"\nАнтон Плахотник (Anton Plakhotnyk)\, Senior Software Engineer в GlobalLogic Ukraine\n\n"Черный список HR. По следам одного сетевого холивара"\nТатьяна Бархатова\, HR Manager в Depositphotos и активный участникIT-HR CLUB\n\n"Свобода слова и оценочных суждений vs право на деловую и личную приватность"\nDima Gadomsky\, СЕО юридической компании Axon Partners.\n\n"Базовый курс PR для чайников"\nTetiana Evdokimenko\, Head of Kyiv Office в Playrix\n\nМастер-классы:\n\n"Войти в АйТи" - Евгений Толчинский\, человек\, променявший карьеру менеджера на карьеру QA\n"Культура сетевого общения" - Юрий Павленко\, патриарх Фидо и Интернета\, человек\, удостоенный статьи на lurkmore.to\n\nТрадиционная афтепати в Мафии на Подоле с цезарями\, карбонарами и социализирующими настольными играми.\n\nСтоимость - 120 грн при покупке на 2events\, 150 грн в день ивента.\n\nПроект общественный \, вся прибыль уходит http://www.newacropolis.org.ua/ - волонтерам\, организующим мастер-классы в детских домах.
URL:https://prohr.rabota.ua/event/diskussiya-po-chernyim-spiskam/
LOCATION:ул. Большая Васильковская\, 2\, Киев\, Украина
ATTACH;FMTTYPE=image/jpeg:https://prohr.rabota.ua/wp-content/uploads/2016/08/HAB4_0.jpg
END:VEVENT
END:VCALENDAR